BEGIN:VCALENDAR
VERSION:2.0
PRODID:-//project/author//NONSGML v1.0//EN
CALSCALE:GREGORIAN
BEGIN:VEVENT
UID:e912c3d6d00c28af38c54e22b2a64454@tolucacultural.com
DTSTART:20131015T230000Z
DTEND:20131016T045900Z
DTSTAMP:20260425T221607Z
URL;VALUE=URI:https://www.tolucacultural.com/eventos/cronomad-en-humanidades-uaemex/
DESCRIPTION:Cronomad en Humanidades UAEMEX https://www.tolucacultural.com/?p=9089
SUMMARY:Cronomad en Humanidades UAEMEX https://www.tolucacultural.com/?p=9089
END:VEVENT
END:VCALENDAR