BEGIN:VCALENDAR
VERSION:2.0
PRODID:-//project/author//NONSGML v1.0//EN
CALSCALE:GREGORIAN
BEGIN:VEVENT
UID:d08522b91636c65ef38bca087613bfd8@tolucacultural.com
DTSTART:20131015T000000Z
DTEND:20131016T013000Z
DTSTAMP:20260424T085937Z
URL;VALUE=URI:https://www.tolucacultural.com/eventos/adictos-anonimos-cual-es-tu-adiccion/
DESCRIPTION:&quot;ADICTOS ANÓNIMOS&quot; ¿CUAL ES TU ADICCIÓN? ULTIMAS FUNCIONES https://www.tolucacultural.com/?p=7801
SUMMARY:&quot;ADICTOS ANÓNIMOS&quot; ¿CUAL ES TU ADICCIÓN? ULTIMAS FUNCIONES https://www.tolucacultural.com/?p=7801
END:VEVENT
END:VCALENDAR