BEGIN:VCALENDAR
VERSION:2.0
PRODID:-//project/author//NONSGML v1.0//EN
CALSCALE:GREGORIAN
BEGIN:VEVENT
UID:4fc4f7b36fbf2bd46f1a917dd8111d05@tolucacultural.com
DTSTART:20130601T050000Z
DTEND:20130601T050000Z
DTSTAMP:20260423T185135Z
URL;VALUE=URI:https://www.tolucacultural.com/eventos/sex-machine-en-vivo/
DESCRIPTION:SEX MACHINE EN VIVO https://www.tolucacultural.com/?p=6627
SUMMARY:SEX MACHINE EN VIVO https://www.tolucacultural.com/?p=6627
END:VEVENT
END:VCALENDAR