BEGIN:VCALENDAR
VERSION:2.0
PRODID:-//project/author//NONSGML v1.0//EN
CALSCALE:GREGORIAN
BEGIN:VEVENT
UID:1741907d49db209de081b93b6ca443eb@tolucacultural.com
DTSTART:20130530T140000Z
DTEND:20130530T230000Z
DTSTAMP:20260425T195858Z
URL;VALUE=URI:https://www.tolucacultural.com/eventos/dia-de-la-interoperabilidad-de-datos-geoespaciales/
DESCRIPTION:Día de la Interoperabilidad de Datos Geoespaciales https://www.tolucacultural.com/?p=6498
SUMMARY:Día de la Interoperabilidad de Datos Geoespaciales https://www.tolucacultural.com/?p=6498
END:VEVENT
END:VCALENDAR