BEGIN:VCALENDAR
VERSION:2.0
PRODID:-//project/author//NONSGML v1.0//EN
CALSCALE:GREGORIAN
BEGIN:VEVENT
UID:4c48e6c15c1a3fb8e3fc3edd5da1f0d9@tolucacultural.com
DTSTART:20230430T010000Z
DTEND:20230430T055500Z
DTSTAMP:20260419T211905Z
URL;VALUE=URI:https://www.tolucacultural.com/eventos/ru2-en-metepec/
DESCRIPTION:RU2 en Metepec https://www.tolucacultural.com/?p=45987
SUMMARY:RU2 en Metepec https://www.tolucacultural.com/?p=45987
END:VEVENT
END:VCALENDAR