BEGIN:VCALENDAR
VERSION:2.0
PRODID:-//project/author//NONSGML v1.0//EN
CALSCALE:GREGORIAN
BEGIN:VEVENT
UID:0c1e24ae25b99bee325f1f6b6ecb86e0@tolucacultural.com
DTSTART:20220827T020000Z
DTEND:20220827T045500Z
DTSTAMP:20260424T111027Z
URL;VALUE=URI:https://www.tolucacultural.com/eventos/jesse-baez-en-toluca/
DESCRIPTION:Jesse Baez en Toluca https://www.tolucacultural.com/?p=45738
SUMMARY:Jesse Baez en Toluca https://www.tolucacultural.com/?p=45738
END:VEVENT
END:VCALENDAR