BEGIN:VCALENDAR
VERSION:2.0
PRODID:-//project/author//NONSGML v1.0//EN
CALSCALE:GREGORIAN
BEGIN:VEVENT
UID:e6ed7c30e6d769e4398796429a764ef3@tolucacultural.com
DTSTART:20221028T010000Z
DTEND:20221028T045500Z
DTSTAMP:20260424T094310Z
URL;VALUE=URI:https://www.tolucacultural.com/eventos/alejandra-guzman-en-toluca/
DESCRIPTION:Alejandra Guzmán en Toluca https://www.tolucacultural.com/?p=45701
SUMMARY:Alejandra Guzmán en Toluca https://www.tolucacultural.com/?p=45701
END:VEVENT
END:VCALENDAR