BEGIN:VCALENDAR
VERSION:2.0
PRODID:-//project/author//NONSGML v1.0//EN
CALSCALE:GREGORIAN
BEGIN:VEVENT
UID:0287fbea51310f89a58cd6c07a257e15@tolucacultural.com
DTSTART:20221217T050000Z
DTEND:20221217T055500Z
DTSTAMP:20260424T111129Z
URL;VALUE=URI:https://www.tolucacultural.com/eventos/siddhartha-en-toluca-tmt/
DESCRIPTION:Siddhartha en Toluca TMT https://www.tolucacultural.com/?p=45699
SUMMARY:Siddhartha en Toluca TMT https://www.tolucacultural.com/?p=45699
END:VEVENT
END:VCALENDAR