BEGIN:VCALENDAR
VERSION:2.0
PRODID:-//project/author//NONSGML v1.0//EN
CALSCALE:GREGORIAN
BEGIN:VEVENT
UID:828e0760b6c0e5e5ac3cc404a0f39199@tolucacultural.com
DTSTART:20221015T010000Z
DTEND:20221015T045500Z
DTSTAMP:20260424T082804Z
URL;VALUE=URI:https://www.tolucacultural.com/eventos/los-huracanes-del-norte-en-toluca-2/
DESCRIPTION:Los huracanes del norte en Toluca https://www.tolucacultural.com/?p=45697
SUMMARY:Los huracanes del norte en Toluca https://www.tolucacultural.com/?p=45697
END:VEVENT
END:VCALENDAR