BEGIN:VCALENDAR
VERSION:2.0
PRODID:-//project/author//NONSGML v1.0//EN
CALSCALE:GREGORIAN
BEGIN:VEVENT
UID:8914fb582561789a8e3a12bea5f763f3@tolucacultural.com
DTSTART:20220828T010000Z
DTEND:20220828T041500Z
DTSTAMP:20260419T211323Z
URL;VALUE=URI:https://www.tolucacultural.com/eventos/inda-midland-los-insurgentes-ravells-polo-inclan/
DESCRIPTION:INDA MIDLAND + LOS INSURGENTES ( RAVELLS &amp;amp; POLO INCLÁN) https://www.tolucacultural.com/?p=45686
SUMMARY:INDA MIDLAND + LOS INSURGENTES ( RAVELLS &amp;amp; POLO INCLÁN) https://www.tolucacultural.com/?p=45686
END:VEVENT
END:VCALENDAR