BEGIN:VCALENDAR
VERSION:2.0
PRODID:-//project/author//NONSGML v1.0//EN
CALSCALE:GREGORIAN
BEGIN:VEVENT
UID:c3b21fadb79a7d04d849423d1d8f453f@tolucacultural.com
DTSTART:20200620T010000Z
DTEND:20200620T045900Z
DTSTAMP:20260424T081101Z
URL;VALUE=URI:https://www.tolucacultural.com/eventos/vacacion-en-toluca-con-caloncho-y-el-david-aguilar/
DESCRIPTION:Vacación en Toluca con Caloncho y El David Aguilar https://www.tolucacultural.com/?p=44314
SUMMARY:Vacación en Toluca con Caloncho y El David Aguilar https://www.tolucacultural.com/?p=44314
END:VEVENT
END:VCALENDAR