BEGIN:VCALENDAR
VERSION:2.0
PRODID:-//project/author//NONSGML v1.0//EN
CALSCALE:GREGORIAN
BEGIN:VEVENT
UID:ec9c4508e36b4d1351e25649765ac338@tolucacultural.com
DTSTART:20200119T035000Z
DTEND:20200120T035000Z
DTSTAMP:20260424T012557Z
URL;VALUE=URI:https://www.tolucacultural.com/eventos/curso-de-reiki-tradicional-tibetano-en-metepec/
DESCRIPTION:Curso de Reiki Tradicional Tibetano en Metepec https://www.tolucacultural.com/?p=42999
SUMMARY:Curso de Reiki Tradicional Tibetano en Metepec https://www.tolucacultural.com/?p=42999
END:VEVENT
END:VCALENDAR