BEGIN:VCALENDAR
VERSION:2.0
PRODID:-//project/author//NONSGML v1.0//EN
CALSCALE:GREGORIAN
BEGIN:VEVENT
UID:12d5769e7385691fa33dcfed3db9c136@tolucacultural.com
DTSTART:20191109T220000Z
DTEND:20191110T055500Z
DTSTAMP:20260423T215147Z
URL;VALUE=URI:https://www.tolucacultural.com/eventos/monkeybee-festival-en-cdmx/
DESCRIPTION:MonkeyBee Festival en CDMX https://www.tolucacultural.com/?p=41996
SUMMARY:MonkeyBee Festival en CDMX https://www.tolucacultural.com/?p=41996
END:VEVENT
END:VCALENDAR