BEGIN:VCALENDAR
VERSION:2.0
PRODID:-//project/author//NONSGML v1.0//EN
CALSCALE:GREGORIAN
BEGIN:VEVENT
UID:f963a68a9aa077998e86bc30c572543e@tolucacultural.com
DTSTART:20190616T170000Z
DTEND:20190617T045500Z
DTSTAMP:20260424T163345Z
URL;VALUE=URI:https://www.tolucacultural.com/eventos/homenaje-a-juan-gabriel-orquesta-uaemex/
DESCRIPTION:Homenaje a Juan Gabriel de la Orquesta de la UAEMex https://www.tolucacultural.com/?p=40516
SUMMARY:Homenaje a Juan Gabriel de la Orquesta de la UAEMex https://www.tolucacultural.com/?p=40516
END:VEVENT
END:VCALENDAR