BEGIN:VCALENDAR
VERSION:2.0
PRODID:-//project/author//NONSGML v1.0//EN
CALSCALE:GREGORIAN
BEGIN:VEVENT
UID:b1ec5b4927dc99a16b141845913dabd0@tolucacultural.com
DTSTART:20190616T000000Z
DTEND:20190616T030000Z
DTSTAMP:20260423T185411Z
URL;VALUE=URI:https://www.tolucacultural.com/eventos/florence-and-the-machine-en-mexico/
DESCRIPTION:Florence and the Machine | Mexico https://www.tolucacultural.com/?p=40277
SUMMARY:Florence and the Machine | Mexico https://www.tolucacultural.com/?p=40277
END:VEVENT
END:VCALENDAR