BEGIN:VCALENDAR
VERSION:2.0
PRODID:-//project/author//NONSGML v1.0//EN
CALSCALE:GREGORIAN
BEGIN:VEVENT
UID:a9450082c988d29685d65ace7a020d93@tolucacultural.com
DTSTART:20190324T163000Z
DTEND:20190623T173000Z
DTSTAMP:20260424T061431Z
URL;VALUE=URI:https://www.tolucacultural.com/eventos/campeonato-nacional-de-baile-en-six-flags-mexico/
DESCRIPTION:Campeonato Nacional de baile en Six Flags México https://www.tolucacultural.com/?p=38649
SUMMARY:Campeonato Nacional de baile en Six Flags México https://www.tolucacultural.com/?p=38649
END:VEVENT
END:VCALENDAR