BEGIN:VCALENDAR
VERSION:2.0
PRODID:-//project/author//NONSGML v1.0//EN
CALSCALE:GREGORIAN
BEGIN:VEVENT
UID:c862c1f9f1814029aaed9acb62efc061@tolucacultural.com
DTSTART:20190405T040000Z
DTEND:20190405T090000Z
DTSTAMP:20260419T225612Z
URL;VALUE=URI:https://www.tolucacultural.com/eventos/daniel-santacruz-en-mambo-cafe-insurgentes/
DESCRIPTION:Daniel Santacruz en Mambo Cafe Insurgentes https://www.tolucacultural.com/?p=37744
SUMMARY:Daniel Santacruz en Mambo Cafe Insurgentes https://www.tolucacultural.com/?p=37744
END:VEVENT
END:VCALENDAR