BEGIN:VCALENDAR
VERSION:2.0
PRODID:-//project/author//NONSGML v1.0//EN
CALSCALE:GREGORIAN
BEGIN:VEVENT
UID:5505f2542504c4a4f4f32bd49f972c86@tolucacultural.com
DTSTART:20181021T020000Z
DTEND:20181021T045500Z
DTSTAMP:20260424T093232Z
URL;VALUE=URI:https://www.tolucacultural.com/eventos/los-huracanes-del-norte-en-toluca/
DESCRIPTION:Los huracanes del Norte en Toluca https://www.tolucacultural.com/?p=35694
SUMMARY:Los huracanes del Norte en Toluca https://www.tolucacultural.com/?p=35694
END:VEVENT
END:VCALENDAR