BEGIN:VCALENDAR
VERSION:2.0
PRODID:-//project/author//NONSGML v1.0//EN
CALSCALE:GREGORIAN
BEGIN:VEVENT
UID:168715fd5779afd9ca7274cdddf7a5f7@tolucacultural.com
DTSTART:20181021T020000Z
DTEND:20181021T045500Z
DTSTAMP:20260424T105349Z
URL;VALUE=URI:https://www.tolucacultural.com/eventos/banda-cuisillos-en-toluca/
DESCRIPTION:Banda Cuisillos En Toluca https://www.tolucacultural.com/?p=35692
SUMMARY:Banda Cuisillos En Toluca https://www.tolucacultural.com/?p=35692
END:VEVENT
END:VCALENDAR