BEGIN:VCALENDAR
VERSION:2.0
PRODID:-//project/author//NONSGML v1.0//EN
CALSCALE:GREGORIAN
BEGIN:VEVENT
UID:dc1d685c8867359c6369559200049284@tolucacultural.com
DTSTART:20181013T013000Z
DTEND:20181013T045500Z
DTSTAMP:20260419T160018Z
URL;VALUE=URI:https://www.tolucacultural.com/eventos/caligaris-en-toluca-3/
DESCRIPTION:Caligaris en Toluca https://www.tolucacultural.com/?p=34919
SUMMARY:Caligaris en Toluca https://www.tolucacultural.com/?p=34919
END:VEVENT
END:VCALENDAR