BEGIN:VCALENDAR
VERSION:2.0
PRODID:-//project/author//NONSGML v1.0//EN
CALSCALE:GREGORIAN
BEGIN:VEVENT
UID:ac62edc9f673a81da2c30e6e37bc125a@tolucacultural.com
DTSTART:20170923T140000Z
DTEND:20170924T045500Z
DTSTAMP:20260424T061238Z
URL;VALUE=URI:https://www.tolucacultural.com/eventos/chess-entre-amigos/
DESCRIPTION:Chess entre amigos https://www.tolucacultural.com/?p=30482
SUMMARY:Chess entre amigos https://www.tolucacultural.com/?p=30482
END:VEVENT
END:VCALENDAR