BEGIN:VCALENDAR
VERSION:2.0
PRODID:-//project/author//NONSGML v1.0//EN
CALSCALE:GREGORIAN
BEGIN:VEVENT
UID:fe3007e00029a6740c0f79949de2eeb1@tolucacultural.com
DTSTART:20141122T033000Z
DTEND:20141122T060000Z
DTSTAMP:20260423T185135Z
URL;VALUE=URI:https://www.tolucacultural.com/eventos/monocero-en-vivo/
DESCRIPTION:Monocero &quot;En Vivo&quot; https://www.tolucacultural.com/?p=16454
SUMMARY:Monocero &quot;En Vivo&quot; https://www.tolucacultural.com/?p=16454
END:VEVENT
END:VCALENDAR