BEGIN:VCALENDAR
VERSION:2.0
PRODID:-//project/author//NONSGML v1.0//EN
CALSCALE:GREGORIAN
BEGIN:VEVENT
UID:55d1df1200df853edbfa6f9a63b213b7@tolucacultural.com
DTSTART:20141015T200000Z
DTEND:20141016T045900Z
DTSTAMP:20260424T080328Z
URL;VALUE=URI:https://www.tolucacultural.com/eventos/festival-internacional-vientos-de-otono-2014/
DESCRIPTION:Festival Internacional Vientos de Otoño 2014 https://www.tolucacultural.com/?p=15141
SUMMARY:Festival Internacional Vientos de Otoño 2014 https://www.tolucacultural.com/?p=15141
END:VEVENT
END:VCALENDAR