BEGIN:VCALENDAR
VERSION:2.0
PRODID:-//project/author//NONSGML v1.0//EN
CALSCALE:GREGORIAN
BEGIN:VEVENT
UID:d45b478aa8ae9e3695af711503ac829d@tolucacultural.com
DTSTART:20141005T020000Z
DTEND:20141005T045900Z
DTSTAMP:20260424T170218Z
URL;VALUE=URI:https://www.tolucacultural.com/eventos/estos-eran-3-amigos-sergio-vargas-jorge-battista-y-armando-lira-en-concierto/
DESCRIPTION:Éstos eran 3 amigos... ===Sergio Vargas, Jorge Battista y Armando Lira EN CONCIERTO=== https://www.tolucacultural.com/?p=15011
SUMMARY:Éstos eran 3 amigos... ===Sergio Vargas, Jorge Battista y Armando Lira EN CONCIERTO=== https://www.tolucacultural.com/?p=15011
END:VEVENT
END:VCALENDAR