BEGIN:VCALENDAR
VERSION:2.0
PRODID:-//project/author//NONSGML v1.0//EN
CALSCALE:GREGORIAN
BEGIN:VEVENT
UID:f6ff4030b756e21fb0d3a708d5363c22@tolucacultural.com
DTSTART:20140523T190000Z
DTEND:20140524T045900Z
DTSTAMP:20260426T010923Z
URL;VALUE=URI:https://www.tolucacultural.com/eventos/la-yerbabuena-ska-reggae-band-en-facultad-de-humanidades-uaemex/
DESCRIPTION:LA YERBABUENA SKA REGGAE BAND EN FACULTAD DE HUMANIDADES UAEMéx https://www.tolucacultural.com/?p=12842
SUMMARY:LA YERBABUENA SKA REGGAE BAND EN FACULTAD DE HUMANIDADES UAEMéx https://www.tolucacultural.com/?p=12842
END:VEVENT
END:VCALENDAR